BEGIN:VCALENDAR
VERSION:2.0
PRODID:-//ChamberMaster//Event Calendar 2.0//EN
METHOD:PUBLISH
X-PUBLISHED-TTL:P3D
REFRESH-INTERVAL:P3D
CALSCALE:GREGORIAN
BEGIN:VEVENT
DTSTART:20220128T140000Z
DTEND:20220128T153000Z
X-MICROSOFT-CDO-ALLDAYEVENT:FALSE
SUMMARY:Berkeley County School District
DESCRIPTION:Did you miss the January 28th Event? Click here for the Presentation \n\n\n\nJoin us for this important update on the Berkeley County School District. Learn the impacts of the growth for the District and the projects and strategic plans they have in place to address the growing changes and future needs for Berkeley County. \n\n\n\nFeaturing Special Guest Speaker:\n\nDeon Jackson\, Superintendent - Berkeley County School District
X-ALT-DESC;FMTTYPE=text/html:<div style="text-align: center\;"><span style="font-size: 18px\; color: rgb(67\, 90\, 122)\;"><strong><a href="https://chambermaster.blob.core.windows.net/userfiles/UserFiles/chambers/331/File/BCChamber1.28.222.pdf">Did you miss the January 28th Event? Click here for the Presentation</a> </strong><br />\n<br />\nJoin us for this important update on the Berkeley County School District. Learn the impacts of the growth for the District and the projects and strategic plans they have in place to address the growing changes and future needs for Berkeley County. </span><br />\n<br />\n<span style="font-size:18px\;"><strong><span style="color:#435A7A\;">Featuring Special Guest Speaker:<br />\nDeon Jackson\, Superintendent - Berkeley County School District</span></strong></span></div>\n
LOCATION:Cambria Hotel Summerville\, 405 Sigma Drive\, Summerville\, SC 29486
UID:e.331.3964
SEQUENCE:3
DTSTAMP:20260419T145217Z
URL:https://business.berkeleysc.org/events/details/berkeley-county-school-district-3964
END:VEVENT

END:VCALENDAR
