BEGIN:VCALENDAR
VERSION:2.0
PRODID:-//ChamberMaster//Event Calendar 2.0//EN
METHOD:PUBLISH
X-PUBLISHED-TTL:P3D
REFRESH-INTERVAL:P3D
CALSCALE:GREGORIAN
BEGIN:VEVENT
DTSTART:20250515T190000Z
DTEND:20250515T230000Z
X-MICROSOFT-CDO-ALLDAYEVENT:FALSE
SUMMARY:ChangeSC Cross Pop-Up Farmer Stand
DESCRIPTION:Our mobile farmers market pop-ups are coming to a location near you. Stop by\, meet your local farmer and buy food that's literally fresh off the farm.
X-ALT-DESC;FMTTYPE=text/html:Our mobile farmers market pop-ups are coming to a location near you. Stop by\, meet your local farmer and buy food that&rsquo\;s literally fresh off the farm.
LOCATION:728 Hills Landing Road Cross\, SC 29436
UID:e.331.4249
SEQUENCE:3
DTSTAMP:20260422T083854Z
URL:https://business.berkeleysc.org/events/details/changesc-cross-pop-up-farmer-stand-05-15-2025-4249
END:VEVENT

END:VCALENDAR
